

BEGIN:VCALENDAR
VERSION:2.0
PRODID:-//UDC Suisse //NONSGML Events //EN
CALSCALE:GREGORIAN
X-WR-CALNAME:UDC Suisse
BEGIN:VEVENT
CREATED:20210730T132118Z
UID:95738
DTEND:20210731T000000
DTSTART:20210731T200000
DTSTAMP:20260421T150004Z
LOCATION:Schulhausareal\, Kappel (SO)
DESCRIPTION:
SUMMARY:Fête du 1er août avec le Conseiller National Christian Imark
ORGANIZER:
URL;VALUE=URI:https://www.udc.ch/actualites/agenda/fete-du-1er-aout-avec-le-conseiller-national-christian-imark/
TRANSP:OPAQUE
END:VEVENT
END:VCALENDAR
