

BEGIN:VCALENDAR
VERSION:2.0
PRODID:-//UDC Suisse //NONSGML Events //EN
CALSCALE:GREGORIAN
X-WR-CALNAME:UDC Suisse
BEGIN:VEVENT
CREATED:20210730T132233Z
UID:95740
DTEND:20210801T160000
DTSTART:20210801T130000
DTSTAMP:20260421T094318Z
LOCATION:Traditionelles 1. August-Fondue\, Fehren (SO)
DESCRIPTION:
SUMMARY:Fête du 1er août avec le Conseiller National Christian Imark
ORGANIZER:
URL;VALUE=URI:https://www.udc.ch/actualites/agenda/fete-du-1er-aout-avec-le-conseiller-national-christian-imark-2/
TRANSP:OPAQUE
END:VEVENT
END:VCALENDAR
