

BEGIN:VCALENDAR
VERSION:2.0
PRODID:-//UDC Suisse //NONSGML Events //EN
CALSCALE:GREGORIAN
X-WR-CALNAME:UDC Suisse
BEGIN:VEVENT
CREATED:20210730T133008Z
UID:95744
DTEND:20210801T150000
DTSTART:20210801T130000
DTSTAMP:20260421T112936Z
LOCATION:Breitenpark am Wasser\, Grüthgässli\, Rothrist (AG)
DESCRIPTION:
SUMMARY:Fête du 1er août avec le Conseiller National Walter Wobmann
ORGANIZER:
URL;VALUE=URI:https://www.udc.ch/actualites/agenda/fete-du-1er-aout-avec-le-conseiller-national-walter-wobmann-2/
TRANSP:OPAQUE
END:VEVENT
END:VCALENDAR
