

BEGIN:VCALENDAR
VERSION:2.0
PRODID:-//UDC Suisse //NONSGML Events //EN
CALSCALE:GREGORIAN
X-WR-CALNAME:UDC Suisse
BEGIN:VEVENT
CREATED:20210730T133134Z
UID:95746
DTEND:20210731T150000
DTSTART:20210801T110000
DTSTAMP:20260423T090858Z
LOCATION:Salmsacher Bucht (TG)
DESCRIPTION:
SUMMARY:Fête du 1er août avec le Conseillère Nationale Diana Gutjahr
ORGANIZER:
URL;VALUE=URI:https://www.udc.ch/actualites/agenda/fete-du-1er-aout-avec-le-conseillere-nationale-diana-gutjahr/
TRANSP:OPAQUE
END:VEVENT
END:VCALENDAR
