

BEGIN:VCALENDAR
VERSION:2.0
PRODID:-//UDC Suisse //NONSGML Events //EN
CALSCALE:GREGORIAN
X-WR-CALNAME:UDC Suisse
BEGIN:VEVENT
CREATED:20210730T133503Z
UID:95748
DTEND:20210801T230000
DTSTART:20210801T200000
DTSTAMP:20260420T224926Z
LOCATION:Turnhalle\, Sommeri (TG)
DESCRIPTION:
SUMMARY:Fête du 1er août avec le Conseillère Nationale Diana Gutjahr
ORGANIZER:
URL;VALUE=URI:https://www.udc.ch/actualites/agenda/fete-du-1er-aout-avec-le-conseillere-nationale-diana-gutjahr-2/
TRANSP:OPAQUE
END:VEVENT
END:VCALENDAR
