

BEGIN:VCALENDAR
VERSION:2.0
PRODID:-//UDC Suisse //NONSGML Events //EN
CALSCALE:GREGORIAN
X-WR-CALNAME:UDC Suisse
BEGIN:VEVENT
CREATED:20210730T133636Z
UID:95750
DTEND:20210801T220000
DTSTART:20210801T190000
DTSTAMP:20260420T172250Z
LOCATION:Stedi\, Ermatingen (TG)
DESCRIPTION:
SUMMARY:Fête du 1er août avec le Conseillère Nationale Verena Herzog
ORGANIZER:
URL;VALUE=URI:https://www.udc.ch/actualites/agenda/fete-du-1er-aout-avec-le-conseillere-nationale-verena-herzog/
TRANSP:OPAQUE
END:VEVENT
END:VCALENDAR
