

BEGIN:VCALENDAR
VERSION:2.0
PRODID:-//UDC Suisse //NONSGML Events //EN
CALSCALE:GREGORIAN
X-WR-CALNAME:UDC Suisse
BEGIN:VEVENT
CREATED:20210730T134023Z
UID:95754
DTEND:20210801T110000
DTSTART:20210801T093000
DTSTAMP:20260420T194136Z
LOCATION:Flüeli Ranft\, Sachseln (OW)
DESCRIPTION:
SUMMARY:Fête du 1er août avec le Conseillère Nationale Monika Rüegger
ORGANIZER:
URL;VALUE=URI:https://www.udc.ch/actualites/agenda/fete-du-1er-aout-avec-le-conseillere-nationale-monika-ruegger/
TRANSP:OPAQUE
END:VEVENT
END:VCALENDAR
