

BEGIN:VCALENDAR
VERSION:2.0
PRODID:-//UDC Suisse //NONSGML Events //EN
CALSCALE:GREGORIAN
X-WR-CALNAME:UDC Suisse
BEGIN:VEVENT
CREATED:20210730T134154Z
UID:95756
DTEND:20210801T190000
DTSTART:20210801T150000
DTSTAMP:20260420T230233Z
LOCATION:Landgasthaus Sonne\, Ebnat-Kappel (SG)
DESCRIPTION:
SUMMARY:Fête du 1er août avec le Conseillère Nationale Esther Friedli
ORGANIZER:
URL;VALUE=URI:https://www.udc.ch/actualites/agenda/fete-du-1er-aout-avec-le-conseillere-nationale-esther-friedli/
TRANSP:OPAQUE
END:VEVENT
END:VCALENDAR
