

BEGIN:VCALENDAR
VERSION:2.0
PRODID:-//UDC Suisse //NONSGML Events //EN
CALSCALE:GREGORIAN
X-WR-CALNAME:UDC Suisse
BEGIN:VEVENT
CREATED:20210730T134313Z
UID:95758
DTEND:20210801T210000
DTSTART:20210801T170000
DTSTAMP:20260421T094736Z
LOCATION:Alp Tannenboden\, Flumserberg (SG)
DESCRIPTION:
SUMMARY:Fête du 1er août avec le Conseiller National Thomas Aeschi
ORGANIZER:
URL;VALUE=URI:https://www.udc.ch/actualites/agenda/fete-du-1er-aout-avec-le-conseiller-national-thomas-aeschi/
TRANSP:OPAQUE
END:VEVENT
END:VCALENDAR
