

BEGIN:VCALENDAR
VERSION:2.0
PRODID:-//UDC Suisse //NONSGML Events //EN
CALSCALE:GREGORIAN
X-WR-CALNAME:UDC Suisse
BEGIN:VEVENT
CREATED:20210730T134619Z
UID:95762
DTEND:20210801T150000
DTSTART:20210801T143000
DTSTAMP:20260420T191522Z
LOCATION:Restaurant Wild  Maa\, Hoch-Ybrig (SZ)
DESCRIPTION:
SUMMARY:Fête du 1er août avec le Conseiller National Marcel Dettling
ORGANIZER:
URL;VALUE=URI:https://www.udc.ch/actualites/agenda/fete-du-1er-aout-avec-le-conseiller-national-marcel-dettling-2/
TRANSP:OPAQUE
END:VEVENT
END:VCALENDAR
