

BEGIN:VCALENDAR
VERSION:2.0
PRODID:-//UDC Suisse //NONSGML Events //EN
CALSCALE:GREGORIAN
X-WR-CALNAME:UDC Suisse
BEGIN:VEVENT
CREATED:20210730T134837Z
UID:95764
DTEND:20210801T110000
DTSTART:20210801T100000
DTSTAMP:20260420T225540Z
LOCATION:Palais fédéral\, Berne (BE)
DESCRIPTION:
SUMMARY:Fête du 1er août avec le Conseiller aux Etats Alex Kuprecht
ORGANIZER:
URL;VALUE=URI:https://www.udc.ch/actualites/agenda/fete-du-1er-aout-avec-le-conseiller-aux-etats-alex-kuprecht/
TRANSP:OPAQUE
END:VEVENT
END:VCALENDAR
