

BEGIN:VCALENDAR
VERSION:2.0
PRODID:-//UDC Suisse //NONSGML Events //EN
CALSCALE:GREGORIAN
X-WR-CALNAME:UDC Suisse
BEGIN:VEVENT
CREATED:20210730T135227Z
UID:95768
DTEND:20210731T220000
DTSTART:20210731T210000
DTSTAMP:20260421T042408Z
LOCATION:Villars-sur-Ollon (VD)
DESCRIPTION:
SUMMARY:Fête du 1er août avec Guy Parmelin\, Président de la Confédération
ORGANIZER:
URL;VALUE=URI:https://www.udc.ch/actualites/agenda/fete-du-1er-aout-avec-guy-parmelin-president-de-la-confederation-2/
TRANSP:OPAQUE
END:VEVENT
END:VCALENDAR
