

BEGIN:VCALENDAR
VERSION:2.0
PRODID:-//UDC Suisse //NONSGML Events //EN
CALSCALE:GREGORIAN
X-WR-CALNAME:UDC Suisse
BEGIN:VEVENT
CREATED:20210730T135345Z
UID:95770
DTEND:20210801T120000
DTSTART:20210801T113000
DTSTAMP:20260420T191502Z
LOCATION:Brunch paysan\, Ferme à Bouloz (FR)
DESCRIPTION:
SUMMARY:Fête du 1er août avec Guy Parmelin\, Président de la Confédération
ORGANIZER:
URL;VALUE=URI:https://www.udc.ch/actualites/agenda/fete-du-1er-aout-avec-guy-parmelin-president-de-la-confederation-3/
TRANSP:OPAQUE
END:VEVENT
END:VCALENDAR
