

BEGIN:VCALENDAR
VERSION:2.0
PRODID:-//UDC Suisse //NONSGML Events //EN
CALSCALE:GREGORIAN
X-WR-CALNAME:UDC Suisse
BEGIN:VEVENT
CREATED:20210730T140147Z
UID:95772
DTEND:20210801T210000
DTSTART:20210801T204500
DTSTAMP:20260420T194425Z
LOCATION:Esplanade de Montbenon\, Lausanne (VD)
DESCRIPTION:
SUMMARY:Fête du 1er août avec Guy Parmelin\, Président de la Confédération
ORGANIZER:
URL;VALUE=URI:https://www.udc.ch/actualites/agenda/fete-du-1er-aout-avec-guy-parmelin-president-de-la-confederation-4/
TRANSP:OPAQUE
END:VEVENT
END:VCALENDAR
