

BEGIN:VCALENDAR
VERSION:2.0
PRODID:-//UDC Suisse //NONSGML Events //EN
CALSCALE:GREGORIAN
X-WR-CALNAME:UDC Suisse
BEGIN:VEVENT
CREATED:20210730T140328Z
UID:95774
DTEND:20210801T170000
DTSTART:20210801T160000
DTSTAMP:20260420T194702Z
LOCATION:Park des Hotel Kulm\, St. Moritz (GR)
DESCRIPTION:
SUMMARY:Fête du 1er août avec Christoph Blocher\, anc. conseiller fédéral
ORGANIZER:
URL;VALUE=URI:https://www.udc.ch/actualites/agenda/fete-du-1er-aout-avec-christoph-blocher-anc-conseiller-federal/
TRANSP:OPAQUE
END:VEVENT
END:VCALENDAR
