

BEGIN:VCALENDAR
VERSION:2.0
PRODID:-//UDC Suisse //NONSGML Events //EN
CALSCALE:GREGORIAN
X-WR-CALNAME:UDC Suisse
BEGIN:VEVENT
CREATED:20210730T140559Z
UID:95778
DTEND:20210801T120000
DTSTART:20210801T113000
DTSTAMP:20260420T213716Z
LOCATION:Grotto Arla da Covin\, Madonna D’Arla\, Sonvico Lugano (TI)
DESCRIPTION:
SUMMARY:Fête du 1er août avec le Conseiller National Piero Marchesi
ORGANIZER:
URL;VALUE=URI:https://www.udc.ch/actualites/agenda/fete-du-1er-aout-avec-le-conseiller-national-piero-marchesi/
TRANSP:OPAQUE
END:VEVENT
END:VCALENDAR
