

BEGIN:VCALENDAR
VERSION:2.0
PRODID:-//UDC Suisse //NONSGML Events //EN
CALSCALE:GREGORIAN
X-WR-CALNAME:UDC Suisse
BEGIN:VEVENT
CREATED:20210730T142716Z
UID:95783
DTEND:20210801T200000
DTSTART:20210801T193000
DTSTAMP:20260421T112951Z
LOCATION:Forstbetriebsgebäude\, Bachs (ZH)
DESCRIPTION:
SUMMARY:Fête du 1er août avec le Conseiller national Martin Haab
ORGANIZER:
URL;VALUE=URI:https://www.udc.ch/actualites/agenda/fete-du-1er-aout-avec-le-conseiller-national-martin-haab/
TRANSP:OPAQUE
END:VEVENT
END:VCALENDAR
