

BEGIN:VCALENDAR
VERSION:2.0
PRODID:-//UDC Suisse //NONSGML Events //EN
CALSCALE:GREGORIAN
X-WR-CALNAME:UDC Suisse
BEGIN:VEVENT
CREATED:20210730T142815Z
UID:95785
DTEND:20210801T210000
DTSTART:20210801T204500
DTSTAMP:20260421T004444Z
LOCATION:Obere Luegeten\, Wildberg (ZH)
DESCRIPTION:
SUMMARY:Fête du 1er août avec la Conseillère nationale Therese Schläpfer
ORGANIZER:
URL;VALUE=URI:https://www.udc.ch/actualites/agenda/fete-du-1er-aout-avec-la-conseillere-nationale-therese-schlapfer/
TRANSP:OPAQUE
END:VEVENT
END:VCALENDAR
