

BEGIN:VCALENDAR
VERSION:2.0
PRODID:-//UDC Suisse //NONSGML Events //EN
CALSCALE:GREGORIAN
X-WR-CALNAME:UDC Suisse
BEGIN:VEVENT
CREATED:20210730T142927Z
UID:95787
DTEND:20210731T200000
DTSTART:20210731T190000
DTSTAMP:20260421T131618Z
LOCATION:auf freiem Feld zwischen Dozwil\, Kesswil und Uttwil (TG)
DESCRIPTION:
SUMMARY:Fête du 1er août avec le Conseiller national Gregor Rutz
ORGANIZER:
URL;VALUE=URI:https://www.udc.ch/actualites/agenda/fete-du-1er-aout-avec-le-conseiller-national-gregor-rutz/
TRANSP:OPAQUE
END:VEVENT
END:VCALENDAR
