

BEGIN:VCALENDAR
VERSION:2.0
PRODID:-//UDC Suisse //NONSGML Events //EN
CALSCALE:GREGORIAN
X-WR-CALNAME:UDC Suisse
BEGIN:VEVENT
CREATED:20210730T143233Z
UID:95791
DTEND:20210801T200000
DTSTART:20210801T190000
DTSTAMP:20260421T042724Z
LOCATION:Familie Kunz\, Unterdorfstrasse\, Hinwil (ZH)
DESCRIPTION:
SUMMARY:Fête du 1er août avec le Conseiller national Mauro Tuena
ORGANIZER:
URL;VALUE=URI:https://www.udc.ch/actualites/agenda/fete-du-1er-aout-avec-le-conseiller-national-mauro-tuena/
TRANSP:OPAQUE
END:VEVENT
END:VCALENDAR
