

BEGIN:VCALENDAR
VERSION:2.0
PRODID:-//UDC Suisse //NONSGML Events //EN
CALSCALE:GREGORIAN
X-WR-CALNAME:UDC Suisse
BEGIN:VEVENT
CREATED:20210730T143324Z
UID:95793
DTEND:20210801T110000
DTSTART:20210801T100000
DTSTAMP:20260420T225415Z
LOCATION:Restaurant Chalet Suizo\, Javea (Espagne)
DESCRIPTION:
SUMMARY:Fête du 1er août avec le Conseiller national Thomas Matter
ORGANIZER:
URL;VALUE=URI:https://www.udc.ch/actualites/agenda/fete-du-1er-aout-avec-le-conseiller-national-thomas-matter/
TRANSP:OPAQUE
END:VEVENT
END:VCALENDAR
