

BEGIN:VCALENDAR
VERSION:2.0
PRODID:-//UDC Suisse //NONSGML Events //EN
CALSCALE:GREGORIAN
X-WR-CALNAME:UDC Suisse
BEGIN:VEVENT
CREATED:20171002T083450Z
UID:9665
DTEND:20171017T200000
DTSTART:20171017T193000
DTSTAMP:20260421T061000Z
LOCATION:Hostellerie La Baie du Lac\, Rte de l'Hôtel de Ville 14\, 1344 L'Abbaye
DESCRIPTION:
SUMMARY:Les parlementaires à la rencontre de la population
ORGANIZER:
URL;VALUE=URI:https://www.udc.ch/actualites/agenda/les-parlementaires-a-la-rencontre-de-la-population/
TRANSP:OPAQUE
END:VEVENT
END:VCALENDAR
