

BEGIN:VCALENDAR
VERSION:2.0
PRODID:-//UDC Suisse //NONSGML Events //EN
CALSCALE:GREGORIAN
X-WR-CALNAME:UDC Suisse
BEGIN:VEVENT
CREATED:20171002T083723Z
UID:9667
DTEND:20171118T130000
DTSTART:20171118T120000
DTSTAMP:20260421T042248Z
LOCATION:Restaurant du Midi\, Reconvilier
DESCRIPTION:
SUMMARY:Manfred Bühler à rencontre de la population
ORGANIZER:
URL;VALUE=URI:https://www.udc.ch/actualites/agenda/manfred-buhler-a-rencontre-de-la-population/
TRANSP:OPAQUE
END:VEVENT
END:VCALENDAR
