

BEGIN:VCALENDAR
VERSION:2.0
PRODID:-//UDC Suisse //NONSGML Events //EN
CALSCALE:GREGORIAN
X-WR-CALNAME:UDC Suisse
BEGIN:VEVENT
CREATED:20211214T163340Z
UID:97074
DTEND:20220112T200000
DTSTART:20220112T190000
DTSTAMP:20260420T193703Z
LOCATION:Le Pont (Vallée de Joux)
DESCRIPTION:Le Pont (Vallée de Joux)
SUMMARY:L&rsquo\;UDC proche de vous
ORGANIZER:
URL;VALUE=URI:https://www.udc.ch/actualites/agenda/ludc-proche-de-vous-2/
TRANSP:OPAQUE
END:VEVENT
END:VCALENDAR
