

BEGIN:VCALENDAR
VERSION:2.0
PRODID:-//UDC Suisse //NONSGML Events //EN
CALSCALE:GREGORIAN
X-WR-CALNAME:UDC Suisse
BEGIN:VEVENT
CREATED:20211224T080403Z
UID:97158
DTEND:20220213T000000
DTSTART:20220213T000000
DTSTAMP:20260421T112633Z
LOCATION:
DESCRIPTION:
SUMMARY:Votations fédérales du 13 février 2022
ORGANIZER:
URL;VALUE=URI:https://www.udc.ch/actualites/agenda/votations-federales-du-13-fevrier-2022/
TRANSP:OPAQUE
END:VEVENT
END:VCALENDAR
