

BEGIN:VCALENDAR
VERSION:2.0
PRODID:-//UDC Suisse //NONSGML Events //EN
CALSCALE:GREGORIAN
X-WR-CALNAME:UDC Suisse
BEGIN:VEVENT
CREATED:20220113T082543Z
UID:97352
DTEND:20220115T000000
DTSTART:20220115T000000
DTSTAMP:20260421T023619Z
LOCATION:BE
DESCRIPTION:
SUMMARY:Assemblée des délégués
ORGANIZER:
URL;VALUE=URI:https://www.udc.ch/actualites/agenda/assemblee-des-delegues-36/
TRANSP:OPAQUE
END:VEVENT
END:VCALENDAR
