

BEGIN:VCALENDAR
VERSION:2.0
PRODID:-//UDC Suisse //NONSGML Events //EN
CALSCALE:GREGORIAN
X-WR-CALNAME:UDC Suisse
BEGIN:VEVENT
CREATED:20220113T082543Z
UID:97353
DTEND:20220218T000000
DTSTART:20220218T000000
DTSTAMP:20260420T212415Z
LOCATION:GL
DESCRIPTION:
SUMMARY:Présidence du groupe /séance du groupe
ORGANIZER:
URL;VALUE=URI:https://www.udc.ch/actualites/agenda/presidence-du-groupe-seance-du-groupe-9/
TRANSP:OPAQUE
END:VEVENT
END:VCALENDAR
