

BEGIN:VCALENDAR
VERSION:2.0
PRODID:-//UDC Suisse //NONSGML Events //EN
CALSCALE:GREGORIAN
X-WR-CALNAME:UDC Suisse
BEGIN:VEVENT
CREATED:20220113T082543Z
UID:97354
DTEND:20220219T000000
DTSTART:20220219T000000
DTSTAMP:20260421T094726Z
LOCATION:GL
DESCRIPTION:
SUMMARY:Séance du groupe
ORGANIZER:
URL;VALUE=URI:https://www.udc.ch/actualites/agenda/seance-du-groupe-28/
TRANSP:OPAQUE
END:VEVENT
END:VCALENDAR
