

BEGIN:VCALENDAR
VERSION:2.0
PRODID:-//UDC Suisse //NONSGML Events //EN
CALSCALE:GREGORIAN
X-WR-CALNAME:UDC Suisse
BEGIN:VEVENT
CREATED:20220113T082543Z
UID:97355
DTEND:20220219T000000
DTSTART:20220219T000000
DTSTAMP:20260421T023051Z
LOCATION:GL
DESCRIPTION:
SUMMARY:Coupe de jass
ORGANIZER:
URL;VALUE=URI:https://www.udc.ch/actualites/agenda/coupe-de-jass-5/
TRANSP:OPAQUE
END:VEVENT
END:VCALENDAR
