

BEGIN:VCALENDAR
VERSION:2.0
PRODID:-//UDC Suisse //NONSGML Events //EN
CALSCALE:GREGORIAN
X-WR-CALNAME:UDC Suisse
BEGIN:VEVENT
CREATED:20220113T082544Z
UID:97359
DTEND:20220308T000000
DTSTART:20220308T000000
DTSTAMP:20260420T214318Z
LOCATION:Berne
DESCRIPTION:
SUMMARY:Rencontre présidents des groupes cantonaux
ORGANIZER:
URL;VALUE=URI:https://www.udc.ch/actualites/agenda/rencontre-presidents-des-groupes-cantonaux/
TRANSP:OPAQUE
END:VEVENT
END:VCALENDAR
