

BEGIN:VCALENDAR
VERSION:2.0
PRODID:-//UDC Suisse //NONSGML Events //EN
CALSCALE:GREGORIAN
X-WR-CALNAME:UDC Suisse
BEGIN:VEVENT
CREATED:20220113T082544Z
UID:97360
DTEND:20220314T000000
DTSTART:20220314T000000
DTSTAMP:20260421T112826Z
LOCATION:Berne
DESCRIPTION:
SUMMARY:Séance des leaders / comité du groupe
ORGANIZER:
URL;VALUE=URI:https://www.udc.ch/actualites/agenda/seance-des-leaders-comite-du-groupe/
TRANSP:OPAQUE
END:VEVENT
END:VCALENDAR
