

BEGIN:VCALENDAR
VERSION:2.0
PRODID:-//UDC Suisse //NONSGML Events //EN
CALSCALE:GREGORIAN
X-WR-CALNAME:UDC Suisse
BEGIN:VEVENT
CREATED:20220113T082544Z
UID:97361
DTEND:20220314T000000
DTSTART:20220314T000000
DTSTAMP:20260420T194218Z
LOCATION:Berne
DESCRIPTION:
SUMMARY:Rencontre des juges fédéraux
ORGANIZER:
URL;VALUE=URI:https://www.udc.ch/actualites/agenda/rencontre-des-juges-federaux/
TRANSP:OPAQUE
END:VEVENT
END:VCALENDAR
