

BEGIN:VCALENDAR
VERSION:2.0
PRODID:-//UDC Suisse //NONSGML Events //EN
CALSCALE:GREGORIAN
X-WR-CALNAME:UDC Suisse
BEGIN:VEVENT
CREATED:20220113T082545Z
UID:97364
DTEND:20220408T000000
DTSTART:20220408T000000
DTSTAMP:20260421T094801Z
LOCATION:GR
DESCRIPTION:
SUMMARY:Comité directeur / comité du parti
ORGANIZER:
URL;VALUE=URI:https://www.udc.ch/actualites/agenda/comite-directeur-comite-du-parti/
TRANSP:OPAQUE
END:VEVENT
END:VCALENDAR
