

BEGIN:VCALENDAR
VERSION:2.0
PRODID:-//UDC Suisse //NONSGML Events //EN
CALSCALE:GREGORIAN
X-WR-CALNAME:UDC Suisse
BEGIN:VEVENT
CREATED:20220113T082545Z
UID:97365
DTEND:20220409T000000
DTSTART:20220409T000000
DTSTAMP:20260420T212958Z
LOCATION:GR
DESCRIPTION:
SUMMARY:Assemblée des délégués
ORGANIZER:
URL;VALUE=URI:https://www.udc.ch/actualites/agenda/assemblee-des-delegues-37/
TRANSP:OPAQUE
END:VEVENT
END:VCALENDAR
