

BEGIN:VCALENDAR
VERSION:2.0
PRODID:-//UDC Suisse //NONSGML Events //EN
CALSCALE:GREGORIAN
X-WR-CALNAME:UDC Suisse
BEGIN:VEVENT
CREATED:20220113T082545Z
UID:97366
DTEND:20220507T000000
DTSTART:20220507T000000
DTSTAMP:20260421T022852Z
LOCATION:
DESCRIPTION:
SUMMARY:Rencontre avec les conseillers d’Etat
ORGANIZER:
URL;VALUE=URI:https://www.udc.ch/actualites/agenda/rencontre-avec-les-conseillers-detat-7/
TRANSP:OPAQUE
END:VEVENT
END:VCALENDAR
