

BEGIN:VCALENDAR
VERSION:2.0
PRODID:-//UDC Suisse //NONSGML Events //EN
CALSCALE:GREGORIAN
X-WR-CALNAME:UDC Suisse
BEGIN:VEVENT
CREATED:20220113T082545Z
UID:97367
DTEND:20220513T000000
DTSTART:20220509T000000
DTSTAMP:20260421T022831Z
LOCATION:Berne
DESCRIPTION:
SUMMARY:Session spéciale
ORGANIZER:
URL;VALUE=URI:https://www.udc.ch/actualites/agenda/session-speciale/
TRANSP:OPAQUE
END:VEVENT
END:VCALENDAR
