

BEGIN:VCALENDAR
VERSION:2.0
PRODID:-//UDC Suisse //NONSGML Events //EN
CALSCALE:GREGORIAN
X-WR-CALNAME:UDC Suisse
BEGIN:VEVENT
CREATED:20220113T082546Z
UID:97371
DTEND:20220521T000000
DTSTART:20220521T000000
DTSTAMP:20260420T213843Z
LOCATION:extra muros
DESCRIPTION:
SUMMARY:Séance du groupe
ORGANIZER:
URL;VALUE=URI:https://www.udc.ch/actualites/agenda/seance-du-groupe-30/
TRANSP:OPAQUE
END:VEVENT
END:VCALENDAR
