

BEGIN:VCALENDAR
VERSION:2.0
PRODID:-//UDC Suisse //NONSGML Events //EN
CALSCALE:GREGORIAN
X-WR-CALNAME:UDC Suisse
BEGIN:VEVENT
CREATED:20220113T082546Z
UID:97372
DTEND:20220617T000000
DTSTART:20220530T000000
DTSTAMP:20260421T004047Z
LOCATION:Berne
DESCRIPTION:
SUMMARY:Session d’été
ORGANIZER:
URL;VALUE=URI:https://www.udc.ch/actualites/agenda/session-dete-8/
TRANSP:OPAQUE
END:VEVENT
END:VCALENDAR
