

BEGIN:VCALENDAR
VERSION:2.0
PRODID:-//UDC Suisse //NONSGML Events //EN
CALSCALE:GREGORIAN
X-WR-CALNAME:UDC Suisse
BEGIN:VEVENT
CREATED:20220113T082547Z
UID:97374
DTEND:20220607T000000
DTSTART:20220607T000000
DTSTAMP:20260420T194555Z
LOCATION:Berne
DESCRIPTION:
SUMMARY:Séance du groupe
ORGANIZER:
URL;VALUE=URI:https://www.udc.ch/actualites/agenda/seance-du-groupe-31/
TRANSP:OPAQUE
END:VEVENT
END:VCALENDAR
