

BEGIN:VCALENDAR
VERSION:2.0
PRODID:-//UDC Suisse //NONSGML Events //EN
CALSCALE:GREGORIAN
X-WR-CALNAME:UDC Suisse
BEGIN:VEVENT
CREATED:20220113T082547Z
UID:97375
DTEND:20220616T000000
DTSTART:20220616T000000
DTSTAMP:20260421T004107Z
LOCATION:Berne
DESCRIPTION:
SUMMARY:Séance des leaders
ORGANIZER:
URL;VALUE=URI:https://www.udc.ch/actualites/agenda/seance-des-leaders/
TRANSP:OPAQUE
END:VEVENT
END:VCALENDAR
