

BEGIN:VCALENDAR
VERSION:2.0
PRODID:-//UDC Suisse //NONSGML Events //EN
CALSCALE:GREGORIAN
X-WR-CALNAME:UDC Suisse
BEGIN:VEVENT
CREATED:20220113T082547Z
UID:97377
DTEND:20220819T000000
DTSTART:20220819T000000
DTSTAMP:20260420T171911Z
LOCATION:
DESCRIPTION:
SUMMARY:Assemblée générale UDC International
ORGANIZER:
URL;VALUE=URI:https://www.udc.ch/actualites/agenda/assemblee-generale-udc-international-4/
TRANSP:OPAQUE
END:VEVENT
END:VCALENDAR
