

BEGIN:VCALENDAR
VERSION:2.0
PRODID:-//UDC Suisse //NONSGML Events //EN
CALSCALE:GREGORIAN
X-WR-CALNAME:UDC Suisse
BEGIN:VEVENT
CREATED:20220113T082548Z
UID:97378
DTEND:20220819T000000
DTSTART:20220819T000000
DTSTAMP:20260420T194347Z
LOCATION:ZG
DESCRIPTION:
SUMMARY:Comité directeur / comité du parti
ORGANIZER:
URL;VALUE=URI:https://www.udc.ch/actualites/agenda/comite-directeur-comite-du-parti-2/
TRANSP:OPAQUE
END:VEVENT
END:VCALENDAR
