

BEGIN:VCALENDAR
VERSION:2.0
PRODID:-//UDC Suisse //NONSGML Events //EN
CALSCALE:GREGORIAN
X-WR-CALNAME:UDC Suisse
BEGIN:VEVENT
CREATED:20220113T082548Z
UID:97381
DTEND:20220902T000000
DTSTART:20220902T000000
DTSTAMP:20260420T194021Z
LOCATION:extra muros
DESCRIPTION:
SUMMARY:Présidence du groupe / séance du groupe
ORGANIZER:
URL;VALUE=URI:https://www.udc.ch/actualites/agenda/presidence-du-groupe-seance-du-groupe-12/
TRANSP:OPAQUE
END:VEVENT
END:VCALENDAR
