

BEGIN:VCALENDAR
VERSION:2.0
PRODID:-//UDC Suisse //NONSGML Events //EN
CALSCALE:GREGORIAN
X-WR-CALNAME:UDC Suisse
BEGIN:VEVENT
CREATED:20220113T082549Z
UID:97382
DTEND:20220903T000000
DTSTART:20220903T000000
DTSTAMP:20260420T194046Z
LOCATION:extra muros
DESCRIPTION:
SUMMARY:Séance du groupe
ORGANIZER:
URL;VALUE=URI:https://www.udc.ch/actualites/agenda/seance-du-groupe-32/
TRANSP:OPAQUE
END:VEVENT
END:VCALENDAR
