

BEGIN:VCALENDAR
VERSION:2.0
PRODID:-//UDC Suisse //NONSGML Events //EN
CALSCALE:GREGORIAN
X-WR-CALNAME:UDC Suisse
BEGIN:VEVENT
CREATED:20220113T082549Z
UID:97383
DTEND:20220910T000000
DTSTART:20220909T000000
DTSTAMP:20260420T212854Z
LOCATION:
DESCRIPTION:
SUMMARY:Conférence des présidents\, présidents de groupe et secrétaires cantonaux
ORGANIZER:
URL;VALUE=URI:https://www.udc.ch/actualites/agenda/conference-des-presidents-presidents-de-groupe-et-secretaires-cantonaux-7/
TRANSP:OPAQUE
END:VEVENT
END:VCALENDAR
