

BEGIN:VCALENDAR
VERSION:2.0
PRODID:-//UDC Suisse //NONSGML Events //EN
CALSCALE:GREGORIAN
X-WR-CALNAME:UDC Suisse
BEGIN:VEVENT
CREATED:20220113T082549Z
UID:97384
DTEND:20220930T000000
DTSTART:20220912T000000
DTSTAMP:20260420T171239Z
LOCATION:Berne
DESCRIPTION:
SUMMARY:Session d’automne
ORGANIZER:
URL;VALUE=URI:https://www.udc.ch/actualites/agenda/session-dautomne-8/
TRANSP:OPAQUE
END:VEVENT
END:VCALENDAR
