

BEGIN:VCALENDAR
VERSION:2.0
PRODID:-//UDC Suisse //NONSGML Events //EN
CALSCALE:GREGORIAN
X-WR-CALNAME:UDC Suisse
BEGIN:VEVENT
CREATED:20220113T082549Z
UID:97385
DTEND:20220913T000000
DTSTART:20220913T000000
DTSTAMP:20260420T205322Z
LOCATION:Berne
DESCRIPTION:
SUMMARY:Comité du groupe / séance du groupe
ORGANIZER:
URL;VALUE=URI:https://www.udc.ch/actualites/agenda/comite-du-groupe-seance-du-groupe-64/
TRANSP:OPAQUE
END:VEVENT
END:VCALENDAR
