

BEGIN:VCALENDAR
VERSION:2.0
PRODID:-//UDC Suisse //NONSGML Events //EN
CALSCALE:GREGORIAN
X-WR-CALNAME:UDC Suisse
BEGIN:VEVENT
CREATED:20220113T082551Z
UID:97389
DTEND:20220927T000000
DTSTART:20220927T000000
DTSTAMP:20260420T172205Z
LOCATION:Berne
DESCRIPTION:
SUMMARY:Ev. séance du groupe
ORGANIZER:
URL;VALUE=URI:https://www.udc.ch/actualites/agenda/ev-seance-du-groupe-31/
TRANSP:OPAQUE
END:VEVENT
END:VCALENDAR
