

BEGIN:VCALENDAR
VERSION:2.0
PRODID:-//UDC Suisse //NONSGML Events //EN
CALSCALE:GREGORIAN
X-WR-CALNAME:UDC Suisse
BEGIN:VEVENT
CREATED:20220113T082552Z
UID:97392
DTEND:20221022T000000
DTSTART:20221022T000000
DTSTAMP:20260420T194123Z
LOCATION:LU
DESCRIPTION:
SUMMARY:Assemblée des délégués
ORGANIZER:
URL;VALUE=URI:https://www.udc.ch/actualites/agenda/assemblee-des-delegues-39/
TRANSP:OPAQUE
END:VEVENT
END:VCALENDAR
