

BEGIN:VCALENDAR
VERSION:2.0
PRODID:-//UDC Suisse //NONSGML Events //EN
CALSCALE:GREGORIAN
X-WR-CALNAME:UDC Suisse
BEGIN:VEVENT
CREATED:20220113T082552Z
UID:97394
DTEND:20221119T000000
DTSTART:20221119T000000
DTSTAMP:20260421T004232Z
LOCATION:extra muros
DESCRIPTION:
SUMMARY:Séance du groupe
ORGANIZER:
URL;VALUE=URI:https://www.udc.ch/actualites/agenda/seance-du-groupe-34/
TRANSP:OPAQUE
END:VEVENT
END:VCALENDAR
